BEGIN:VCALENDAR
VERSION:2.0
PRODID:-//hacksw/handcal//NONSGML v1.0//EN
BEGIN:VEVENT
SUMMARY:PLOUDALMEZEAU : Departemental de la ville et du Pays d'Iroise
UID:0aacba8f-3450-4ce4-b256-bd7150e8b9dc
DTSTART:20150912T080000Z
DTEND:20150913T170000Z
LOCATION:Localisation Boulodrome de Keribin 29830 PLOUDALMEZEAU
CATEGORIES:Sportif
STATUS:
DESCRIPTION:<p><span style="font-size:16px;"><strong>Samedi :
 Departemental en poules A et B : Doublettes mixtes + T a T (mises +
 40%)</strong></span></p>
 
 <p><span
 style="font-size:16px;"><strong>Dimanche : Regional en Poules A et B
 : triplettes mixtes (1+1+1) mises + 2250€</strong></span></p>
 
URL;VALUE=URI:https://www.petanquepenarcreach.com/evenements/2015/09/12/ploudalmezeau-departemental-de-la-ville-et-du-pays-diroise-636544
END:VEVENT
END:VCALENDAR
