BEGIN:VCALENDAR
VERSION:2.0
PRODID:-//hacksw/handcal//NONSGML v1.0//EN
BEGIN:VEVENT
SUMMARY:Plouneour Menez:Championnat departemental individuel cadets, minimes et benjamins, Concours de la « Journee de la femme ».
UID:94960771-28ab-410d-a650-f00f18a7afaf
DTSTART:20150906T070000Z
DTEND:20150906T170000Z
LOCATION:Localisation  29410 PLOUNEOUR MENEZ
CATEGORIES:Sportif
STATUS:
DESCRIPTION:<p><span style="font-size:16px;">Championnat
 departemental individuel cadets, minimes et benjamins, ainsi que pour
 le concours de la « Journee de la femme ».</span></p>
 
URL;VALUE=URI:https://www.petanquepenarcreach.com/evenements/2015/09/06/plouneour-menezchampionnat-departemental-individuel-cadets-minimes-et-benjamins-concours-de-la-journee-de-la-femme-635323
END:VEVENT
END:VCALENDAR
