BEGIN:VCALENDAR
VERSION:2.0
PRODID:-//hacksw/handcal//NONSGML v1.0//EN
BEGIN:VEVENT
SUMMARY:COATAUDON, Concours Doublettes et Doublettes Feminines
UID:644a2bc2-0871-41f4-a0d1-735479d8f93f
DTSTART:20150906T120000Z
DTEND:20150906T170000Z
LOCATION:Localisation Coataudon 29490 GUIPAVAS
CATEGORIES:Sportif
STATUS:
DESCRIPTION:<p><strong><span style="font-size:16px;">Concours
 officiel seniors en doublettes et doublettes
 feminines.</span></strong></p>
 
URL;VALUE=URI:https://www.petanquepenarcreach.com/evenements/2015/09/06/coataudon-concours-doublettes-et-doublettes-feminines-636541
END:VEVENT
END:VCALENDAR
