BEGIN:VCALENDAR
VERSION:2.0
PRODID:-//hacksw/handcal//NONSGML v1.0//EN
BEGIN:VEVENT
SUMMARY:KERHUON: veterans triplettes
UID:ad1aecaf-d67b-44f2-b934-6e7b10c34f66
DTSTART:20150903T120000Z
DTEND:20150903T170000Z
LOCATION:Localisation Boulodrome couvert de Kergleuz 29480 KERHUON
CATEGORIES:Sportif
STATUS:
DESCRIPTION:<p><span style="font-size:16px;"><strong>Concours
 officiel aux joueurs + 55 ans en triplettes sur 4
 parties.</strong></span></p>
 
URL;VALUE=URI:https://www.petanquepenarcreach.com/evenements/2015/09/03/kerhuon-veterans-triplettes-636586
END:VEVENT
END:VCALENDAR
